BEGIN:VCALENDAR
VERSION:2.0
METHOD:PUBLISH
X-WR-CALNAME:wwuh.org |  March 02 2020- April 01 2020
PRODID:-//strange bird labs//Drupal iCal API//EN
BEGIN:VEVENT
DTSTAMP;VALUE=DATE-TIME:20260419T125628Z
DTSTART;VALUE=DATE-TIME:20200308T090000Z
DTEND;VALUE=DATE-TIME:20200308T123000Z
UID:http://www.wwuh.org/003868-sunday-afternoon-opera-handel-solomon
URL;VALUE=URI:http://www.wwuh.org/003868-sunday-afternoon-opera-handel-solomon
SUMMARY:Sunday Afternoon at the Opera - Handel\: Solomon
DESCRIPTION:<p>&nbsp\;</p>
 <p><em>Sunday Afternoon at the Opera</em> host Keith Brown writes\:</p>
 
END:VEVENT
BEGIN:VEVENT
DTSTAMP;VALUE=DATE-TIME:20260419T125628Z
DTSTART;VALUE=DATE-TIME:20200315T080100Z
DTEND;VALUE=DATE-TIME:20200315T123000Z
UID:http://www.wwuh.org/003869-sunday-afternoon-opera-haydn-il-ritorno-di-tobia
URL;VALUE=URI:http://www.wwuh.org/003869-sunday-afternoon-opera-haydn-il-ritorno-di-tobia
SUMMARY:Sunday Afternoon at the Opera - Haydn\; Il Ritorno di Tobia
DESCRIPTION:<p>&nbsp\;</p>
 <p><em>Sunday Afternoon at the Opera</em> host Keith Brown writes\:</p>
 
END:VEVENT
BEGIN:VEVENT
DTSTAMP;VALUE=DATE-TIME:20260419T125628Z
DTSTART;VALUE=DATE-TIME:20200322T090000Z
DTEND;VALUE=DATE-TIME:20200322T123000Z
UID:http://www.wwuh.org/003870-sunday-afternoon-opera-krouse-armenian-requiem-trans-siberian-orchestra-beethovens-last-night
URL;VALUE=URI:http://www.wwuh.org/003870-sunday-afternoon-opera-krouse-armenian-requiem-trans-siberian-orchestra-beethovens-last-night
SUMMARY:Sunday Afternoon at the Opera - Krouse\: Armenian Requiem\; Trans Siberian Orchestra\: Beethoven's Last Night
DESCRIPTION:<p>&nbsp\;</p>
 <p><em>Sunday Afternoon at the Opera</em> host Keith Brown writes\:</p>
 
END:VEVENT
BEGIN:VEVENT
DTSTAMP;VALUE=DATE-TIME:20260419T125628Z
DTSTART;VALUE=DATE-TIME:20200329T090000Z
DTEND;VALUE=DATE-TIME:20200329T123000Z
UID:http://www.wwuh.org/003871-sunday-afternoon-opera-dvor%C3%A1k-stabat-mater-fairouz-poems-and-prayers
URL;VALUE=URI:http://www.wwuh.org/003871-sunday-afternoon-opera-dvor%C3%A1k-stabat-mater-fairouz-poems-and-prayers
SUMMARY:Sunday Afternoon at the Opera - Dvorák\: Stabat Mater\; Fairouz\: Poems and Prayers
DESCRIPTION:<p>&nbsp\;</p>
 <p><em>Sunday Afternoon at the Opera</em> host Keith Brown writes\:</p>
 
END:VEVENT
END:VCALENDAR
